BEGIN:VCALENDAR
PRODID:-//eluceo/ical//2.0/EN
VERSION:2.0
CALSCALE:GREGORIAN
BEGIN:VEVENT
UID:9448ac10da359b4a389a539400d2ee00
DTSTAMP:20260419T215233Z
SUMMARY:Meet the book
DESCRIPTION:Webseite: https://mond-sentilj.com\nReferenten/innen: 
URL:https://steierska-stajermark.rotary.at/de/agenda/show/128878
DTSTART;TZID=Europe/Zurich:20240424T180000
DTEND;TZID=Europe/Zurich:20240424T220000
LOCATION:Hotel Mond (Casino)
CATEGORIES:Rotary
END:VEVENT
BEGIN:VTIMEZONE
TZID:Europe/Zurich
BEGIN:DAYLIGHT
DTSTART:20240424T180000
TZNAME:CEST
TZOFFSETTO:+0200
TZOFFSETFROM:+0200
END:DAYLIGHT
END:VTIMEZONE
END:VCALENDAR
